BEGIN:VCALENDAR
PRODID:-//Cyberglue MemberConnex//iCal4j 1.0//EN
VERSION:2.0
METHOD:PUBLISH
BEGIN:VEVENT
DTSTAMP:20210122T055750Z
DTSTART:20210318T080000
SUMMARY:Online in 2021: Puawaitahi\, Starship Hospital and MEDSAC Paediat
 ric Training Course on the Medical Assessment of Sexually Abused Childre
 n and Adolescents
DTEND:20210319T170000
LOCATION:Ernest & Marion Davies Library\, Building 43\, Auckland City Hos
 pital\, Auckland\, New Zealand
TRANSP:OPAQUE
SEQUENCE:0
DESCRIPTION:
URL:Event?Action=View&amp;Event_id=71
UID:1-71
END:VEVENT
END:VCALENDAR
