BEGIN:VCALENDAR
PRODID:-//Cyberglue MemberConnex//iCal4j 1.0//EN
VERSION:2.0
METHOD:PUBLISH
BEGIN:VEVENT
DTSTAMP:20210122T055811Z
DTSTART:20210514T080000
SUMMARY:2021 Medical/Forensic Management of Adult Sexual Assault
DTEND:20210515T170000
LOCATION:Auckland\, Marion Davis Library\, Building 43\, Auckland City Ho
 spital\, Auckland\, New Zealand
TRANSP:OPAQUE
SEQUENCE:0
DESCRIPTION:
URL:Event?Action=View&amp;Event_id=73
UID:1-73
END:VEVENT
END:VCALENDAR
